Package: GSReg Version: 1.43.0 Command: /home/biocbuild/bbs-3.22-bioc/R/bin/R CMD check --install=check:GSReg.install-out.txt --library=/home/biocbuild/bbs-3.22-bioc/R/site-library --timings GSReg_1.43.0.tar.gz StartedAt: 2025-10-04 00:27:41 -0400 (Sat, 04 Oct 2025) EndedAt: 2025-10-04 00:31:25 -0400 (Sat, 04 Oct 2025) EllapsedTime: 223.4 seconds RetCode: 0 Status: WARNINGS CheckDir: GSReg.Rcheck Warnings: 3