Package: GSReg Version: 1.43.0 Command: /home/biocbuild/bbs-3.22-bioc/R/bin/R CMD build --keep-empty-dirs --no-resave-data --md5 GSReg StartedAt: 2025-10-03 17:58:56 -0400 (Fri, 03 Oct 2025) EndedAt: 2025-10-03 18:00:24 -0400 (Fri, 03 Oct 2025) EllapsedTime: 88.3 seconds RetCode: 0 Status: OK PackageFile: GSReg_1.43.0.tar.gz PackageFileSize: 467.4 KiB