Package: GSReg Version: 1.43.0 Command: /Library/Frameworks/R.framework/Resources/bin/R CMD INSTALL GSReg StartedAt: 2025-10-05 15:31:45 -0400 (Sun, 05 Oct 2025) EndedAt: 2025-10-05 15:32:00 -0400 (Sun, 05 Oct 2025) EllapsedTime: 15.3 seconds RetCode: 0 Status: OK