Package: GSReg Version: 1.43.0 Command: /Library/Frameworks/R.framework/Resources/bin/R CMD build --keep-empty-dirs --no-resave-data GSReg StartedAt: 2025-10-05 16:41:02 -0400 (Sun, 05 Oct 2025) EndedAt: 2025-10-05 16:41:39 -0400 (Sun, 05 Oct 2025) EllapsedTime: 37.4 seconds RetCode: 0 Status: OK PackageFile: GSReg_1.43.0.tar.gz PackageFileSize: 466.3 KiB