Package: GSReg Version: 1.43.0 Command: rm -rf GSReg.buildbin-libdir && mkdir GSReg.buildbin-libdir && /Users/biocbuild/BBS/utils/build-universal.sh GSReg_1.43.0.tar.gz /Library/Frameworks/R.framework/Resources/bin/R GSReg.buildbin-libdir StartedAt: 2025-10-05 22:45:33 -0400 (Sun, 05 Oct 2025) EndedAt: 2025-10-05 22:45:50 -0400 (Sun, 05 Oct 2025) EllapsedTime: 17.4 seconds RetCode: 0 Status: OK PackageFile: GSReg_1.43.0.tgz PackageFileSize: 381.9 KiB