Package: GSReg Version: 1.43.0 Maintainer: Bahman Afsari , Elana J. Fertig MaintainerEmail: ejfertig at jhmi.edu git_url: https://git.bioconductor.org/packages/GSReg git_branch: devel git_last_commit: c720132 git_last_commit_date: 2025-04-15 10:32:33 -0400 (Tue, 15 Apr 2025)