Package: GSEAmining Version: 1.19.0 Command: /Library/Frameworks/R.framework/Resources/bin/R CMD check --install=check:GSEAmining.install-out.txt --library=/Library/Frameworks/R.framework/Resources/library --no-vignettes --timings GSEAmining_1.19.0.tar.gz StartedAt: 2025-10-05 19:53:46 -0400 (Sun, 05 Oct 2025) EndedAt: 2025-10-05 19:54:24 -0400 (Sun, 05 Oct 2025) EllapsedTime: 37.5 seconds RetCode: 0 Status: OK CheckDir: GSEAmining.Rcheck Warnings: 0