Package: GSEAlm Version: 1.69.0 Command: chmod a+r GSEAlm -R && F:\biocbuild\bbs-3.22-bioc\R\bin\R.exe CMD build --keep-empty-dirs --no-resave-data GSEAlm StartedAt: 2025-08-14 20:40:19 -0400 (Thu, 14 Aug 2025) EndedAt: 2025-08-14 20:41:20 -0400 (Thu, 14 Aug 2025) EllapsedTime: 61.1 seconds RetCode: 0 Status: OK PackageFile: GSEAlm_1.69.0.tar.gz PackageFileSize: 944.5 KiB