Package: GSEAlm Version: 1.69.0 Command: rm -rf GSEAlm.buildbin-libdir && mkdir GSEAlm.buildbin-libdir && F:\biocbuild\bbs-3.22-bioc\R\bin\R.exe CMD INSTALL --build --library=GSEAlm.buildbin-libdir GSEAlm_1.69.0.tar.gz StartedAt: 2025-08-15 10:26:06 -0400 (Fri, 15 Aug 2025) EndedAt: 2025-08-15 10:26:17 -0400 (Fri, 15 Aug 2025) EllapsedTime: 11.2 seconds RetCode: 0 Status: OK PackageFile: GSEAlm_1.69.0.zip PackageFileSize: 936.8 KiB