Package: GSEAlm Version: 1.69.0 Command: /home/biocbuild/bbs-3.22-bioc/R/bin/R CMD INSTALL GSEAlm StartedAt: 2025-10-19 15:14:32 -0400 (Sun, 19 Oct 2025) EndedAt: 2025-10-19 15:14:34 -0400 (Sun, 19 Oct 2025) EllapsedTime: 2.6 seconds RetCode: 0 Status: OK