Package: GSEAlm Version: 1.69.0 Command: /home/biocbuild/bbs-3.22-bioc/R/bin/R CMD check --install=check:GSEAlm.install-out.txt --library=/home/biocbuild/bbs-3.22-bioc/R/site-library --timings GSEAlm_1.69.0.tar.gz StartedAt: 2025-10-20 00:38:31 -0400 (Mon, 20 Oct 2025) EndedAt: 2025-10-20 00:39:38 -0400 (Mon, 20 Oct 2025) EllapsedTime: 67.1 seconds RetCode: 0 Status: OK CheckDir: GSEAlm.Rcheck Warnings: 0