Package: GSEAlm Version: 1.69.0 Command: /home/biocbuild/bbs-3.22-bioc/R/bin/R CMD build --keep-empty-dirs --no-resave-data --md5 GSEAlm StartedAt: 2025-10-19 18:01:02 -0400 (Sun, 19 Oct 2025) EndedAt: 2025-10-19 18:01:49 -0400 (Sun, 19 Oct 2025) EllapsedTime: 47.0 seconds RetCode: 0 Status: OK PackageFile: GSEAlm_1.69.0.tar.gz PackageFileSize: 1.248 MiB