Package: GSEAlm Version: 1.69.0 Command: /Library/Frameworks/R.framework/Resources/bin/R CMD check --install=check:GSEAlm.install-out.txt --library=/Library/Frameworks/R.framework/Resources/library --no-vignettes --timings GSEAlm_1.69.0.tar.gz StartedAt: 2025-10-19 20:03:31 -0400 (Sun, 19 Oct 2025) EndedAt: 2025-10-19 20:03:44 -0400 (Sun, 19 Oct 2025) EllapsedTime: 13.1 seconds RetCode: 0 Status: OK CheckDir: GSEAlm.Rcheck Warnings: 0