Package: GSEAlm Version: 1.69.0 Command: /Library/Frameworks/R.framework/Resources/bin/R CMD build --keep-empty-dirs --no-resave-data GSEAlm StartedAt: 2025-10-19 16:36:18 -0400 (Sun, 19 Oct 2025) EndedAt: 2025-10-19 16:36:38 -0400 (Sun, 19 Oct 2025) EllapsedTime: 20.2 seconds RetCode: 0 Status: OK PackageFile: GSEAlm_1.69.0.tar.gz PackageFileSize: 1.244 MiB