Package: GSEAlm Version: 1.69.0 Command: rm -rf GSEAlm.buildbin-libdir && mkdir GSEAlm.buildbin-libdir && /Users/biocbuild/BBS/utils/build-universal.sh GSEAlm_1.69.0.tar.gz /Library/Frameworks/R.framework/Resources/bin/R GSEAlm.buildbin-libdir StartedAt: 2025-10-19 23:02:08 -0400 (Sun, 19 Oct 2025) EndedAt: 2025-10-19 23:02:10 -0400 (Sun, 19 Oct 2025) EllapsedTime: 2.1 seconds RetCode: 0 Status: OK PackageFile: GSEAlm_1.69.0.tgz PackageFileSize: 1.237 MiB