Package: GSEABenchmarkeR Version: 1.29.1 Command: /Library/Frameworks/R.framework/Resources/bin/R CMD INSTALL GSEABenchmarkeR StartedAt: 2025-09-30 15:31:53 -0400 (Tue, 30 Sep 2025) EndedAt: 2025-09-30 15:32:01 -0400 (Tue, 30 Sep 2025) EllapsedTime: 8.2 seconds RetCode: 0 Status: OK