Package: GSAR Version: 1.43.2 Command: /home/biocbuild/R/R/bin/R CMD INSTALL GSAR StartedAt: 2025-10-02 20:21:46 -0000 (Thu, 02 Oct 2025) EndedAt: 2025-10-02 20:22:16 -0000 (Thu, 02 Oct 2025) EllapsedTime: 30.5 seconds RetCode: 0 Status: OK