Package: GSAR Version: 1.43.2 Command: /home/biocbuild/R/R/bin/R CMD check --install=check:GSAR.install-out.txt --library=/home/biocbuild/R/R/site-library --no-vignettes --timings GSAR_1.43.2.tar.gz StartedAt: 2025-10-03 07:48:15 -0000 (Fri, 03 Oct 2025) EndedAt: 2025-10-03 07:49:00 -0000 (Fri, 03 Oct 2025) EllapsedTime: 45.1 seconds RetCode: 0 Status: OK CheckDir: GSAR.Rcheck Warnings: 0