Package: GSAR Version: 1.43.2 Command: rm -rf GSAR.buildbin-libdir && mkdir GSAR.buildbin-libdir && F:\biocbuild\bbs-3.22-bioc\R\bin\R.exe CMD INSTALL --build --library=GSAR.buildbin-libdir GSAR_1.43.2.tar.gz StartedAt: 2025-08-15 10:25:50 -0400 (Fri, 15 Aug 2025) EndedAt: 2025-08-15 10:26:00 -0400 (Fri, 15 Aug 2025) EllapsedTime: 10.1 seconds RetCode: 0 Status: OK PackageFile: GSAR_1.43.2.zip PackageFileSize: 3.356 MiB