Package: GSAR Version: 1.43.2 Command: /Library/Frameworks/R.framework/Resources/bin/R CMD INSTALL GSAR StartedAt: 2025-10-02 15:03:31 -0400 (Thu, 02 Oct 2025) EndedAt: 2025-10-02 15:03:39 -0400 (Thu, 02 Oct 2025) EllapsedTime: 7.6 seconds RetCode: 0 Status: OK