Package: GSALightning Version: 1.37.0 Command: /home/biocbuild/R/R/bin/R CMD check --install=check:GSALightning.install-out.txt --library=/home/biocbuild/R/R/site-library --no-vignettes --timings GSALightning_1.37.0.tar.gz StartedAt: 2025-10-03 07:48:13 -0000 (Fri, 03 Oct 2025) EndedAt: 2025-10-03 07:49:00 -0000 (Fri, 03 Oct 2025) EllapsedTime: 47.1 seconds RetCode: 0 Status: OK CheckDir: GSALightning.Rcheck Warnings: 0