Package: GRmetrics Version: 1.35.0 Command: /home/biocbuild/R/R/bin/R CMD INSTALL GRmetrics StartedAt: 2025-10-20 20:37:15 -0000 (Mon, 20 Oct 2025) EndedAt: 2025-10-20 20:37:43 -0000 (Mon, 20 Oct 2025) EllapsedTime: 27.7 seconds RetCode: 0 Status: OK