Package: GRmetrics Version: 1.35.0 Command: /home/biocbuild/R/R/bin/R CMD build --keep-empty-dirs --no-resave-data GRmetrics StartedAt: 2025-10-21 00:19:01 -0000 (Tue, 21 Oct 2025) EndedAt: 2025-10-21 00:20:08 -0000 (Tue, 21 Oct 2025) EllapsedTime: 67.0 seconds RetCode: 0 Status: OK PackageFile: GRmetrics_1.35.0.tar.gz PackageFileSize: 2.249 MiB