Package: GRmetrics Version: 1.35.0 Command: F:\biocbuild\bbs-3.22-bioc\R\bin\R.exe CMD INSTALL GRmetrics StartedAt: 2025-08-14 16:04:00 -0400 (Thu, 14 Aug 2025) EndedAt: 2025-08-14 16:04:27 -0400 (Thu, 14 Aug 2025) EllapsedTime: 26.7 seconds RetCode: 0 Status: OK