Package: GRmetrics Version: 1.35.0 Command: /home/biocbuild/bbs-3.22-bioc/R/bin/R CMD INSTALL GRmetrics StartedAt: 2025-10-20 15:22:59 -0400 (Mon, 20 Oct 2025) EndedAt: 2025-10-20 15:23:19 -0400 (Mon, 20 Oct 2025) EllapsedTime: 20.4 seconds RetCode: 0 Status: OK