Package: GRmetrics Version: 1.35.0 Command: /home/biocbuild/bbs-3.22-bioc/R/bin/R CMD check --install=check:GRmetrics.install-out.txt --library=/home/biocbuild/bbs-3.22-bioc/R/site-library --timings GRmetrics_1.35.0.tar.gz StartedAt: 2025-10-21 00:30:41 -0400 (Tue, 21 Oct 2025) EndedAt: 2025-10-21 00:33:08 -0400 (Tue, 21 Oct 2025) EllapsedTime: 147.1 seconds RetCode: 0 Status: OK CheckDir: GRmetrics.Rcheck Warnings: 0