Package: GRmetrics Version: 1.35.0 Command: /home/biocbuild/bbs-3.22-bioc/R/bin/R CMD build --keep-empty-dirs --no-resave-data --md5 GRmetrics StartedAt: 2025-10-20 17:55:47 -0400 (Mon, 20 Oct 2025) EndedAt: 2025-10-20 17:56:34 -0400 (Mon, 20 Oct 2025) EllapsedTime: 47.0 seconds RetCode: 0 Status: OK PackageFile: GRmetrics_1.35.0.tar.gz PackageFileSize: 1.923 MiB