Package: GRmetrics Version: 1.35.0 Command: /Library/Frameworks/R.framework/Resources/bin/R CMD INSTALL GRmetrics StartedAt: 2025-10-20 15:25:03 -0400 (Mon, 20 Oct 2025) EndedAt: 2025-10-20 15:25:31 -0400 (Mon, 20 Oct 2025) EllapsedTime: 28.3 seconds RetCode: 0 Status: OK