Package: GRmetrics Version: 1.35.0 Command: /Library/Frameworks/R.framework/Resources/bin/R CMD check --install=check:GRmetrics.install-out.txt --library=/Library/Frameworks/R.framework/Resources/library --no-vignettes --timings GRmetrics_1.35.0.tar.gz StartedAt: 2025-10-20 22:56:02 -0400 (Mon, 20 Oct 2025) EndedAt: 2025-10-20 22:59:33 -0400 (Mon, 20 Oct 2025) EllapsedTime: 210.5 seconds RetCode: 0 Status: OK CheckDir: GRmetrics.Rcheck Warnings: 0