Package: GRmetrics Version: 1.35.0 Command: /Library/Frameworks/R.framework/Resources/bin/R CMD check --install=check:GRmetrics.install-out.txt --library=/Library/Frameworks/R.framework/Resources/library --no-vignettes --timings GRmetrics_1.35.0.tar.gz StartedAt: 2025-10-20 20:05:29 -0400 (Mon, 20 Oct 2025) EndedAt: 2025-10-20 20:06:17 -0400 (Mon, 20 Oct 2025) EllapsedTime: 47.6 seconds RetCode: 0 Status: OK CheckDir: GRmetrics.Rcheck Warnings: 0