Package: GRmetrics Version: 1.35.0 Command: /Library/Frameworks/R.framework/Resources/bin/R CMD build --keep-empty-dirs --no-resave-data GRmetrics StartedAt: 2025-10-20 16:36:05 -0400 (Mon, 20 Oct 2025) EndedAt: 2025-10-20 16:36:26 -0400 (Mon, 20 Oct 2025) EllapsedTime: 20.2 seconds RetCode: 0 Status: OK PackageFile: GRmetrics_1.35.0.tar.gz PackageFileSize: 1.947 MiB