Package: GRaNIE Version: 1.13.0 Command: rm -rf GRaNIE.buildbin-libdir && mkdir GRaNIE.buildbin-libdir && F:\biocbuild\bbs-3.22-bioc\R\bin\R.exe CMD INSTALL --build --library=GRaNIE.buildbin-libdir GRaNIE_1.13.0.tar.gz StartedAt: 2025-08-15 10:25:25 -0400 (Fri, 15 Aug 2025) EndedAt: 2025-08-15 10:26:48 -0400 (Fri, 15 Aug 2025) EllapsedTime: 82.6 seconds RetCode: 0 Status: OK PackageFile: GRaNIE_1.13.0.zip PackageFileSize: 4.662 MiB