Package: GRaNIE Version: 1.14.0 Command: /Library/Frameworks/R.framework/Resources/bin/R CMD INSTALL GRaNIE StartedAt: 2025-11-03 15:41:58 -0500 (Mon, 03 Nov 2025) EndedAt: 2025-11-03 15:43:06 -0500 (Mon, 03 Nov 2025) EllapsedTime: 68.3 seconds RetCode: 0 Status: OK