Package: GRaNIE Version: 1.14.0 Command: /Library/Frameworks/R.framework/Resources/bin/R CMD check --install=check:GRaNIE.install-out.txt --library=/Library/Frameworks/R.framework/Resources/library --no-vignettes --timings GRaNIE_1.14.0.tar.gz StartedAt: 2025-11-03 21:40:55 -0500 (Mon, 03 Nov 2025) EndedAt: 2025-11-03 21:49:37 -0500 (Mon, 03 Nov 2025) EllapsedTime: 521.8 seconds RetCode: 0 Status: OK CheckDir: GRaNIE.Rcheck Warnings: 0