Package: GRaNIE Version: 1.14.0 Command: /Library/Frameworks/R.framework/Resources/bin/R CMD build --keep-empty-dirs --no-resave-data GRaNIE StartedAt: 2025-11-03 17:14:54 -0500 (Mon, 03 Nov 2025) EndedAt: 2025-11-03 17:19:22 -0500 (Mon, 03 Nov 2025) EllapsedTime: 267.7 seconds RetCode: 0 Status: OK PackageFile: GRaNIE_1.14.0.tar.gz PackageFileSize: 8.144 MiB