Package: GRaNIE Version: 1.14.0 Command: rm -rf GRaNIE.buildbin-libdir && mkdir GRaNIE.buildbin-libdir && /Users/biocbuild/BBS/utils/build-universal.sh GRaNIE_1.14.0.tar.gz /Library/Frameworks/R.framework/Resources/bin/R GRaNIE.buildbin-libdir StartedAt: 2025-11-04 01:43:32 -0500 (Tue, 04 Nov 2025) EndedAt: 2025-11-04 01:44:46 -0500 (Tue, 04 Nov 2025) EllapsedTime: 73.9 seconds RetCode: 0 Status: OK PackageFile: GRaNIE_1.14.0.tgz PackageFileSize: 9.059 MiB