Package: GRaNIE Version: 1.14.0 Command: /Library/Frameworks/R.framework/Resources/bin/R CMD check --install=check:GRaNIE.install-out.txt --library=/Library/Frameworks/R.framework/Resources/library --no-vignettes --timings GRaNIE_1.14.0.tar.gz StartedAt: 2025-11-06 20:06:31 -0500 (Thu, 06 Nov 2025) EndedAt: 2025-11-06 20:09:41 -0500 (Thu, 06 Nov 2025) EllapsedTime: 190.4 seconds RetCode: 0 Status: OK CheckDir: GRaNIE.Rcheck Warnings: 0