Package: GRaNIE Version: 1.14.0 Command: /Library/Frameworks/R.framework/Resources/bin/R CMD build --keep-empty-dirs --no-resave-data GRaNIE StartedAt: 2025-10-31 16:40:19 -0400 (Fri, 31 Oct 2025) EndedAt: 2025-10-31 16:42:04 -0400 (Fri, 31 Oct 2025) EllapsedTime: 105.1 seconds RetCode: 0 Status: OK PackageFile: GRaNIE_1.14.0.tar.gz PackageFileSize: 8.127 MiB