Package: GRENITS Version: 1.61.0 Command: rm -rf GRENITS.buildbin-libdir && mkdir GRENITS.buildbin-libdir && F:\biocbuild\bbs-3.22-bioc\R\bin\R.exe CMD INSTALL --build --library=GRENITS.buildbin-libdir GRENITS_1.61.0.tar.gz StartedAt: 2025-08-15 10:25:40 -0400 (Fri, 15 Aug 2025) EndedAt: 2025-08-15 10:27:32 -0400 (Fri, 15 Aug 2025) EllapsedTime: 112.4 seconds RetCode: 0 Status: OK PackageFile: GRENITS_1.61.0.zip PackageFileSize: 757.4 KiB