Package: GRENITS Version: 1.61.0 Command: /home/biocbuild/bbs-3.22-bioc/R/bin/R CMD check --install=check:GRENITS.install-out.txt --library=/home/biocbuild/bbs-3.22-bioc/R/site-library --timings GRENITS_1.61.0.tar.gz StartedAt: 2025-10-22 00:35:23 -0400 (Wed, 22 Oct 2025) EndedAt: 2025-10-22 00:38:47 -0400 (Wed, 22 Oct 2025) EllapsedTime: 204.2 seconds RetCode: 0 Status: OK CheckDir: GRENITS.Rcheck Warnings: 0