Package: GRENITS Version: 1.61.0 Command: rm -rf GRENITS.buildbin-libdir && mkdir GRENITS.buildbin-libdir && /Users/biocbuild/BBS/utils/build-universal.sh GRENITS_1.61.0.tar.gz /Library/Frameworks/R.framework/Resources/bin/R GRENITS.buildbin-libdir StartedAt: 2025-10-20 03:12:40 -0400 (Mon, 20 Oct 2025) EndedAt: 2025-10-20 03:14:21 -0400 (Mon, 20 Oct 2025) EllapsedTime: 101.1 seconds RetCode: 0 Status: OK PackageFile: GRENITS_1.61.0.tgz PackageFileSize: 577.5 KiB