Package: GRENITS Version: 1.62.0 Command: /Library/Frameworks/R.framework/Resources/bin/R CMD INSTALL GRENITS StartedAt: 2025-11-02 15:04:25 -0500 (Sun, 02 Nov 2025) EndedAt: 2025-11-02 15:04:55 -0500 (Sun, 02 Nov 2025) EllapsedTime: 30.6 seconds RetCode: 0 Status: OK