Package: GRENITS Version: 1.62.0 Command: /Library/Frameworks/R.framework/Resources/bin/R CMD check --install=check:GRENITS.install-out.txt --library=/Library/Frameworks/R.framework/Resources/library --no-vignettes --timings GRENITS_1.62.0.tar.gz StartedAt: 2025-10-31 20:10:05 -0400 (Fri, 31 Oct 2025) EndedAt: 2025-10-31 20:11:24 -0400 (Fri, 31 Oct 2025) EllapsedTime: 78.9 seconds RetCode: 0 Status: OK CheckDir: GRENITS.Rcheck Warnings: 0