Package: GRENITS Version: 1.61.0 Maintainer: Edward Morrissey MaintainerEmail: edward.morrissey at gmail.com git_url: https://git.bioconductor.org/packages/GRENITS git_branch: devel git_last_commit: a7329ce git_last_commit_date: 2025-04-15 10:09:12 -0400 (Tue, 15 Apr 2025)