Package: GOstats Version: 2.76.0 Command: /Library/Frameworks/R.framework/Resources/bin/R CMD INSTALL GOstats StartedAt: 2025-11-10 15:21:06 -0500 (Mon, 10 Nov 2025) EndedAt: 2025-11-10 15:21:14 -0500 (Mon, 10 Nov 2025) EllapsedTime: 8.7 seconds RetCode: 0 Status: OK