Package: GOfuncR Version: 1.29.0 Command: /home/biocbuild/R/R/bin/R CMD build --keep-empty-dirs --no-resave-data GOfuncR StartedAt: 2025-10-21 00:14:09 -0000 (Tue, 21 Oct 2025) EndedAt: 2025-10-21 00:19:34 -0000 (Tue, 21 Oct 2025) EllapsedTime: 325.1 seconds RetCode: 0 Status: OK PackageFile: GOfuncR_1.29.0.tar.gz PackageFileSize: 4.871 MiB