Package: GOfuncR Version: 1.29.0 Command: /Library/Frameworks/R.framework/Resources/bin/R CMD check --install=check:GOfuncR.install-out.txt --library=/Library/Frameworks/R.framework/Resources/library --no-vignettes --timings GOfuncR_1.29.0.tar.gz StartedAt: 2025-10-19 22:50:10 -0400 (Sun, 19 Oct 2025) EndedAt: 2025-10-19 22:56:53 -0400 (Sun, 19 Oct 2025) EllapsedTime: 403.5 seconds RetCode: 0 Status: OK CheckDir: GOfuncR.Rcheck Warnings: 0