Package: GOfuncR Version: 1.29.0 Command: /Library/Frameworks/R.framework/Resources/bin/R CMD build --keep-empty-dirs --no-resave-data GOfuncR StartedAt: 2025-10-19 17:25:46 -0400 (Sun, 19 Oct 2025) EndedAt: 2025-10-19 17:31:54 -0400 (Sun, 19 Oct 2025) EllapsedTime: 367.3 seconds RetCode: 0 Status: OK PackageFile: GOfuncR_1.29.0.tar.gz PackageFileSize: 5.211 MiB