Package: GOfuncR Version: 1.29.0 Command: rm -rf GOfuncR.buildbin-libdir && mkdir GOfuncR.buildbin-libdir && /Users/biocbuild/BBS/utils/build-universal.sh GOfuncR_1.29.0.tar.gz /Library/Frameworks/R.framework/Resources/bin/R GOfuncR.buildbin-libdir StartedAt: 2025-10-20 03:12:13 -0400 (Mon, 20 Oct 2025) EndedAt: 2025-10-20 03:14:28 -0400 (Mon, 20 Oct 2025) EllapsedTime: 135.8 seconds RetCode: 0 Status: OK PackageFile: GOfuncR_1.29.0.tgz PackageFileSize: 4.346 MiB