Package: GOTHiC Version: 1.45.1 Command: /home/biocbuild/R/R/bin/R CMD INSTALL GOTHiC StartedAt: 2025-10-20 21:14:55 -0000 (Mon, 20 Oct 2025) EndedAt: 2025-10-20 21:15:45 -0000 (Mon, 20 Oct 2025) EllapsedTime: 49.9 seconds RetCode: 0 Status: OK